Workbook

Sheet Лист1
B1: Подписка на 1 полугодие 2021 года по ГБОУ "Икшурминская кадетская школа -интернат имени Байкиева К.С."
A2: Форма
A3: № п/п | C3: Индекс | D3: Цена до адресата | E3: ГБОУ "Икшурминская кадетская школа -интернат имени Байкиева К.С."
A4: 1 | B4: =[1]Лист1!$B$1127 -> ВЕСТНИК ОБРАЗОВАНИЯ | C4: =[1]Лист1!$A$1127 -> П6977 | D4: =[1]Лист1!$H$1127 -> 2751.39 | E4: 1
A5: 1 | B5: САБА ТАННАРЫ( САБИНС | C5: П9285 | D5: 843 | E5: =E10 -> 1
A6: 2 | B6: =[1]Лист1!$B$853 -> УЧИТЕЛЬСКАЯ ГАЗЕТА | C6: П3357 | D6: =[1]Лист1!$H$853 -> 1623 | E6: 1
A7: 3 | B7: =[1]Лист1!$B$1204 -> ГАИЛЭ ХЭМ МЭКТЭП (С | C7: П2790 | D7: =[1]Лист1!$H$1204 -> 693 | E7: 1
A8: 4 | B8: =[1]Лист1!$B$1541 -> МАГАРИФ*ОРГ | C8: ПА394 | D8: =[1]Лист1!$H$1541 -> 618 | E8: 1
A9: 5 | B9: =[1]Лист1!$B$1898 -> САБАНТУЙ. РТ*ОРГ | C9: П2329 | D9: =[1]Лист1!$H$1898 -> 540 | E9: 1
A10: 6 | B10: ПИОНЕРСКАЯ ПРАВДА | C10: 3808 | D10: 587.22 | E10: =E16 -> 1
A11: 7 | B11: =[1]Лист1!$B$2041 -> СЮЮМБИКЭ*ОРГ | C11: ПА402 | D11: =[1]Лист1!$H$2041 -> 708 | E11: 1
A12: 8 | B12: =[1]Лист1!$B$453 -> КОМЕШ КЫНГЫРАУ (СЕРЕ | C12: П2370 | D12: =[1]Лист1!$H$453 -> 516 | E12: 1
A13: 9 | B13: АЧЫК ДЭРЕС*ОРГ | C13: П2348 | D13: =[1]Лист1!$H$181 -> 811.44 | E13: 1
A14: 10 | B14: =[1]Лист1!$B$1902 -> САЛАВАТ КУПЕРЕ*ОРГ | C14: ПА410 | D14: =[1]Лист1!$H$1902 -> 396 | E14: 1
A15: 11 | B15: =[1]Лист1!$B$301 -> ДЕТСКИЕ СКАЗКИ | C15: П7123 | D15: =[1]Лист1!$H$301 -> 215.55 | E15: 1
A16: 14 | B16: ИЛЛЮСТРИРОВАННЫЕ СКА | C16: П1015 | D16: 1930.5 | E16: 1
A17: 15 | B17: =[1]Лист1!$B$1626 -> МУРЗИЛКА | C17: П1247 | D17: =[1]Лист1!$H$1626 -> 1679.46 | E17: 1
A18: 16 | B18: ВЕСЕЛЫЕ КАРТИНКИ | C18: П1963 | D18: =[1]Лист1!$H$1105 -> 1209.48 | E18: 1
A19: 17 | B19: =[1]Лист1!$B$1556 -> МАША И МЕДВЕДЬ | C19: П7160 | D19: =[1]Лист1!$H$1556 -> 580.68 | E19: 1
A20: 18 | B20: =[1]Лист1!$B$651 -> ПОСЛЕДНИЙ ЗВОНОК | C20: ПИ254 | D20: =[1]Лист1!$H$651 -> 404.1 | E20: 1
A21: 19 | B21: =[1]Лист1!$B$2211 -> ШКОЛЬНАЯ БИБЛИОТЕКА | C21: =[1]Лист1!$A$2211 -> П3683 | D21: =[1]Лист1!$H$2211 -> 1295.64 | E21: 1
A22: 20 | B22: =[1]Лист1!$B$1348 -> ЖУРНАЛ СКАЗОК | C22: П2076 | D22: =[1]Лист1!$H$1348 -> 763.98 | E22: 1
A23: 21 | B23: =[1]Лист1!$B$1001 -> АБВГД - СКАЗКИ, ИГРЫ | C23: П8442 | D23: =[1]Лист1!$H$1001 -> 1240.32 | E23: 1
A24: 22 | B24: ЯЛКЫН*ОРГ | C24: ПА399 | D24: 495,00 | E24: =E5 -> 1

Sheet Лист5

Sheet Лист4

Sheet Лист2

Sheet Лист3
